BEGIN:VCALENDAR
VERSION:2.0
PRODID:-//ChamberMaster//Event Calendar 2.0//EN
METHOD:PUBLISH
X-PUBLISHED-TTL:P3D
REFRESH-INTERVAL:P3D
CALSCALE:GREGORIAN
BEGIN:VEVENT
DTSTART:20220915T220000Z
DTEND:20220916T000000Z
X-MICROSOFT-CDO-ALLDAYEVENT:FALSE
SUMMARY:September Social
DESCRIPTION:Please join us for FQBA's\n\nSeptember Social Networking Event!
X-ALT-DESC;FMTTYPE=text/html:<div style="text-align: center\;"><span style="font-family:verdana\;"><strong><font color="#000000"><span style="font-size: 16px\;">Please join us for FQBA&#39\;s<br />\nSeptember Social Networking Event!</span></font></strong></span><br />\n&nbsp\;</div>\n
LOCATION:The Shops at Canal Place 100 Iberville Street
UID:e.9043.2783
SEQUENCE:3
DTSTAMP:20260421T203429Z
URL:http://fqba.chambermaster.com/events/details/september-social-2783
END:VEVENT

END:VCALENDAR
